View In:
ArcGIS JavaScript
ArcGIS Online Map Viewer
ArcGIS Earth
Service Description: Mosaico de 1998. Serviço de Imagem com dados provenientes do Veracidade. Possui 1m de resolução espacial.
Name: Imagens/Mosaico1998
Description: Mosaico de 1998. Serviço de Imagem com dados provenientes do Veracidade. Possui 1m de resolução espacial.
Single Fused Map Cache: true
Tile Info:
- Height: 256
- Width: 256
- DPI: 96
-
Levels of Detail: 8
- Format: MIXED
- Compression Quality: 75.0
- LERC Error: NaN
- Origin: X: -5120900.0
Y: 1.99981E7
- Spatial Reference: 32724
(32724)
LatestVCSWkid(0)
Storage Info:
- Storage Format: esriMapCacheStorageModeCompactV2
- Packet Size: 128
Extent:
XMin: 347385.468617789
YMin: 7725953.633295816
XMax: 377966.468617789
YMax: 7785954.633295816
Spatial Reference: 32724
(32724)
LatestVCSWkid(0)
Initial Extent:
XMin: 347385.468617789
YMin: 7725953.633295816
XMax: 377966.468617789
YMax: 7785954.633295816
Spatial Reference: 32724
(32724)
LatestVCSWkid(0)
Full Extent:
XMin: 347385.468617789
YMin: 7725953.633295816
XMax: 377966.468617789
YMax: 7785954.633295816
Spatial Reference: 32724
(32724)
LatestVCSWkid(0)
Pixel Size X: 1.0
Pixel Size Y: 1.0
Band Count: 3
Pixel Type: U8
RasterFunction Infos: {"rasterFunctionInfos": [{
"name": "None",
"description": "",
"help": ""
}]}
Mensuration Capabilities: Basic
Inspection Capabilities:
Has Histograms: true
Has Colormap: false
Has Multi Dimensions : false
Rendering Rule:
Min Scale: 0
Max Scale: 0
Min LOD: 0
Max LOD: 7
Resampling: false
Copyright Text: SEMFA/GEO
Service Data Type: esriImageServiceDataTypeRGB
Min Values: 0, 0, 0
Max Values: 255, 255, 255
Mean Values: 99.914918474427, 108.5500194202, 93.932502724818
Standard Deviation Values: 59.051163612461, 45.044861519569, 40.462380283057
Object ID Field:
Fields:
None
Default Mosaic Method: Center
Allowed Mosaic Methods:
SortField:
SortValue: null
Mosaic Operator: First
Default Compression Quality: 75
Default Resampling Method: Bilinear
Max Record Count: null
Max Image Height: 4100
Max Image Width: 15000
Max Download Image Count: null
Max Mosaic Image Count: null
Allow Raster Function: true
Allow Copy: true
Allow Analysis: true
Allow Compute TiePoints: false
Supports Statistics: false
Supports Advanced Queries: false
Use StandardizedQueries: true
Raster Type Infos:
Name: Raster Dataset
Description: Supports all ArcGIS Raster Datasets
Help:
Has Raster Attribute Table: false
Edit Fields Info: null
Ownership Based AccessControl For Rasters: null
Child Resources:
Info
Histograms
Statistics
Key Properties
Legend
Raster Function Infos
Supported Operations:
Export Image
Identify
Measure
Compute Histograms
Compute Statistics Histograms
Get Samples
Compute Class Statistics
Query Boundary
Compute Pixel Location
Compute Angles
Validate
Project