{
 "currentVersion": 11.5,
 "serviceDescription": "Mosaico de 1998. Serviço de Imagem com dados provenientes do Veracidade. Possui 1m de resolução espacial.",
 "serviceItemId": "cdb75a38ddbd4b4787fe01119da56d75",
 "name": "Imagens/Mosaico1998",
 "description": "Mosaico de 1998. Serviço de Imagem com dados provenientes do Veracidade. Possui 1m de resolução espacial.",
 "extent": {
  "xmin": 347385.468617789,
  "ymin": 7725953.633295816,
  "xmax": 377966.468617789,
  "ymax": 7785954.633295816,
  "spatialReference": {
   "wkid": 32724,
   "latestWkid": 32724
  }
 },
 "initialExtent": {
  "xmin": 347385.468617789,
  "ymin": 7725953.633295816,
  "xmax": 377966.468617789,
  "ymax": 7785954.633295816,
  "spatialReference": {
   "wkid": 32724,
   "latestWkid": 32724
  }
 },
 "fullExtent": {
  "xmin": 347385.468617789,
  "ymin": 7725953.633295816,
  "xmax": 377966.468617789,
  "ymax": 7785954.633295816,
  "spatialReference": {
   "wkid": 32724,
   "latestWkid": 32724
  }
 },
 "sortableFields": "",
 "bandCount": 3,
 "pixelType": "U8",
 "minValues": [
  0,
  0,
  0
 ],
 "maxValues": [
  255,
  255,
  255
 ],
 "meanValues": [
  99.914918474427,
  108.5500194202,
  93.932502724818
 ],
 "stdvValues": [
  59.051163612461,
  45.044861519569,
  40.462380283057
 ],
 "serviceProperties": "Center<\/MosaicMethod>First<\/MosaicOperator>true<\/SortAscending><\/LockImageID><\/TileOrderField>0<\/TileOrderBase>0.000000<\/AvgImageSpacingX>0.000000<\/AvgImageSpacingY>0.0<\/ViewPointX>0.0<\/ViewPointY>0.0<\/ViewPointDefShiftX>0.0<\/ViewPointDefShiftY>None<\/CompressionMethod>75<\/CompressionQuality>0.010000<\/CompressionTolerance>Bilinear<\/SamplingMethod><\/ImageServiceProperties><\/ImageServer>",
 "allowedFields": "",
 "hasMultidimensions": false,
 "pixelSizeX": 1,
 "pixelSizeY": 1,
 "meanPixelSize": 1,
 "datasetFormat": "IMAGINE Image",
 "uncompressedSize": 5504671743,
 "blockWidth": 64,
 "blockHeight": 64,
 "compressionType": "None",
 "bandNames": [
  "Layer_1",
  "Layer_2",
  "Layer_3"
 ],
 "allowCopy": true,
 "allowAnalysis": true,
 "itemAccess": false,
 "inspectionCapabilities": "",
 "noDataValue": 1,
 "noDataValues": [
  1,
  1,
  1
 ],
 "minPixelSize": 0,
 "maxPixelSize": 0,
 "copyrightText": "SEMFA/GEO",
 "serviceDataType": "esriImageServiceDataTypeRGB",
 "serviceSourceType": "esriImageServiceSourceTypeDataset",
 "objectIdField": "",
 "fields": [],
 "capabilities": "Mensuration,Image,Metadata",
 "defaultMosaicMethod": "Center",
 "allowedMosaicMethods": "",
 "sortField": "",
 "sortValue": null,
 "sortAscending": true,
 "mosaicOperator": "First",
 "defaultCompressionQuality": 75,
 "defaultResamplingMethod": "Bilinear",
 "maxImageHeight": 4100,
 "maxImageWidth": 15000,
 "singleFusedMapCache": true,
 "tileInfo": {
  "rows": 256,
  "cols": 256,
  "dpi": 96,
  "format": "MIXED",
  "compressionQuality": 75,
  "origin": {
   "x": -5120900,
   "y": 19998100
  },
  "spatialReference": {
   "wkid": 32724,
   "latestWkid": 32724
  },
  "lods": [
   {
    "level": 0,
    "resolution": 66.1459656252646,
    "scale": 250000
   },
   {
    "level": 1,
    "resolution": 33.0729828126323,
    "scale": 125000
   },
   {
    "level": 2,
    "resolution": 16.933367200067735,
    "scale": 64000
   },
   {
    "level": 3,
    "resolution": 8.466683600033868,
    "scale": 32000
   },
   {
    "level": 4,
    "resolution": 4.233341800016934,
    "scale": 16000
   },
   {
    "level": 5,
    "resolution": 2.116670900008467,
    "scale": 8000
   },
   {
    "level": 6,
    "resolution": 1.0583354500042335,
    "scale": 4000
   },
   {
    "level": 7,
    "resolution": 0.5291677250021167,
    "scale": 2000
   }
  ]
 },
 "storageInfo": {
  "storageFormat": "esriMapCacheStorageModeCompactV2",
  "packetSize": 128
 },
 "cacheType": "Map",
 "allowRasterFunction": true,
 "rasterFunctionInfos": [
  {
   "name": "None",
   "description": "",
   "help": ""
  }
 ],
 "rasterTypeInfos": [
  {
   "name": "Raster Dataset",
   "description": "Supports all ArcGIS Raster Datasets",
   "help": ""
  }
 ],
 "mensurationCapabilities": "Basic",
 "hasHistograms": true,
 "hasColormap": false,
 "hasRasterAttributeTable": false,
 "minScale": 0,
 "maxScale": 0,
 "minLOD": 0,
 "maxLOD": 7,
 "exportTilesAllowed": false,
 "supportsStatistics": false,
 "supportsAdvancedQueries": false,
 "editFieldsInfo": null,
 "ownershipBasedAccessControlForRasters": null,
 "allowComputeTiePoints": false,
 "useStandardizedQueries": true,
 "advancedQueryCapabilities": {
  "useStandardizedQueries": true,
  "supportsStatistics": false,
  "supportsOrderBy": false,
  "supportsDistinct": false,
  "supportsPagination": false
 },
 "spatialReference": {
  "wkid": 32724,
  "latestWkid": 32724
 },
 "resampling": false
}
