View In:
ArcGIS JavaScript
ArcGIS Online Map Viewer
ArcGIS Earth
Service Description: Imagens/Ortofoto2023
Name: Imagens/Ortofoto2023
Description:
Single Fused Map Cache: true
Tile Info:
- Height: 256
- Width: 256
- DPI: 96
-
Levels of Detail: 10
- Format: MIXED
- Compression Quality: 100.0
- LERC Error: NaN
- Origin: X: -5120900.0
Y: 1.99981E7
- Spatial Reference: 31984
(31984)
LatestVCSWkid(0)
Storage Info:
- Storage Format: esriMapCacheStorageModeCompactV2
- Packet Size: 128
Extent:
XMin: 356976.2799999999
YMin: 7750918.119999997
XMax: 373976.3599999999
YMax: 7762918.199999997
Spatial Reference: 31984
(31984)
LatestVCSWkid(0)
Initial Extent:
XMin: 356976.2799999999
YMin: 7750918.119999997
XMax: 373976.3599999999
YMax: 7762918.199999997
Spatial Reference: 31984
(31984)
LatestVCSWkid(0)
Full Extent:
XMin: 356976.2799999999
YMin: 7750918.119999997
XMax: 373976.3599999999
YMax: 7762918.199999997
Spatial Reference: 31984
(31984)
LatestVCSWkid(0)
Pixel Size X: 0.08000000000000007
Pixel Size Y: 0.0800000000000005
Band Count: 5
Pixel Type: U8
RasterFunction Infos: {"rasterFunctionInfos": [{
"name": "None",
"description": "",
"help": ""
}]}
Mensuration Capabilities: Basic
Inspection Capabilities:
Has Histograms: true
Has Colormap: false
Has Multi Dimensions : false
Rendering Rule:
Min Scale: 0
Max Scale: 0
Min LOD: 0
Max LOD: 9
Resampling: false
Copyright Text:
Service Data Type: esriImageServiceDataTypeGeneric
Min Values: 1, 1, 1, 1, 0
Max Values: 255, 255, 255, 255, 255
Mean Values: 169.66985331997, 177.3300628116, 164.76900752238, 161.96832187615, 193.75129654348
Standard Deviation Values: 78.537257321057, 69.966916168227, 78.05466079532, 84.215281576416, 108.93583299895
Object ID Field:
Fields:
None
Default Mosaic Method: Center
Allowed Mosaic Methods:
SortField:
SortValue: null
Mosaic Operator: First
Default Compression Quality: 75
Default Resampling Method: Bilinear
Max Record Count: null
Max Image Height: 4100
Max Image Width: 15000
Max Download Image Count: null
Max Mosaic Image Count: null
Allow Raster Function: true
Allow Copy: true
Allow Analysis: true
Allow Compute TiePoints: false
Supports Statistics: false
Supports Advanced Queries: false
Use StandardizedQueries: true
Raster Type Infos:
Name: Raster Dataset
Description: Supports all ArcGIS Raster Datasets
Help:
Has Raster Attribute Table: false
Edit Fields Info: null
Ownership Based AccessControl For Rasters: null
Child Resources:
Info
Histograms
Statistics
Key Properties
Legend
Raster Function Infos
Supported Operations:
Export Image
Identify
Measure
Compute Histograms
Compute Statistics Histograms
Get Samples
Compute Class Statistics
Query Boundary
Compute Pixel Location
Compute Angles
Validate
Project