View In:
ArcGIS JavaScript
ArcGIS Online Map Viewer
ArcGIS Earth
Service Description: Mosaico de 1978. Serviço de Imagem com dados provenientes do Veracidade. Possui 1m de resolução espacial.
Name: Imagens/Mosaico1978
Description: Mosaico de 1978. Serviço de Imagem com dados provenientes do Veracidade. Possui 1m de resolução espacial.
Single Fused Map Cache: true
Tile Info:
- Height: 256
- Width: 256
- DPI: 96
-
Levels of Detail: 8
- Format: MIXED
- Compression Quality: 95.0
- LERC Error: NaN
- Origin: X: -5120900.0
Y: 1.99981E7
- Spatial Reference: 32724
(32724)
LatestVCSWkid(0)
Storage Info:
- Storage Format: esriMapCacheStorageModeCompactV2
- Packet Size: 128
Extent:
XMin: 350347.43867506523
YMin: 7722224.00403773
XMax: 379900.43867506523
YMax: 7786932.00403773
Spatial Reference: 32724
(32724)
LatestVCSWkid(0)
Initial Extent:
XMin: 350347.43867506523
YMin: 7722224.00403773
XMax: 379900.43867506523
YMax: 7786932.00403773
Spatial Reference: 32724
(32724)
LatestVCSWkid(0)
Full Extent:
XMin: 350347.43867506523
YMin: 7722224.00403773
XMax: 379900.43867506523
YMax: 7786932.00403773
Spatial Reference: 32724
(32724)
LatestVCSWkid(0)
Pixel Size X: 1.0
Pixel Size Y: 1.0
Band Count: 3
Pixel Type: U8
RasterFunction Infos: {"rasterFunctionInfos": [{
"name": "None",
"description": "",
"help": ""
}]}
Mensuration Capabilities: Basic
Inspection Capabilities:
Has Histograms: true
Has Colormap: false
Has Multi Dimensions : false
Rendering Rule:
Min Scale: 0
Max Scale: 0
Min LOD: 0
Max LOD: 7
Resampling: false
Copyright Text: SEMFA/GEO
Service Data Type: esriImageServiceDataTypeRGB
Min Values: 1, 1, 1
Max Values: 255, 255, 255
Mean Values: 116.69151023455, 116.69150707472, 116.6918407668
Standard Deviation Values: 49.201680595763, 49.201686503462, 49.202158690442
Object ID Field:
Fields:
None
Default Mosaic Method: Center
Allowed Mosaic Methods:
SortField:
SortValue: null
Mosaic Operator: First
Default Compression Quality: 75
Default Resampling Method: Bilinear
Max Record Count: null
Max Image Height: 4100
Max Image Width: 15000
Max Download Image Count: null
Max Mosaic Image Count: null
Allow Raster Function: true
Allow Copy: true
Allow Analysis: true
Allow Compute TiePoints: false
Supports Statistics: false
Supports Advanced Queries: false
Use StandardizedQueries: true
Raster Type Infos:
Name: Raster Dataset
Description: Supports all ArcGIS Raster Datasets
Help:
Has Raster Attribute Table: false
Edit Fields Info: null
Ownership Based AccessControl For Rasters: null
Child Resources:
Info
Histograms
Statistics
Key Properties
Legend
Raster Function Infos
Supported Operations:
Export Image
Identify
Measure
Compute Histograms
Compute Statistics Histograms
Get Samples
Compute Class Statistics
Query Boundary
Compute Pixel Location
Compute Angles
Validate
Project