View In:
ArcGIS JavaScript
ArcGIS Online Map Viewer
ArcGIS Earth
Service Description: Imagens/MDT_VIX_2023_tif
Name: Imagens/MDT_VIX_2023_tif
Description:
Single Fused Map Cache: false
Extent:
XMin: 356976.301905143
YMin: 7750918.20942116
XMax: 373976.301905143
YMax: 7762918.20942116
Spatial Reference: 31984
(31984)
LatestVCSWkid(0)
Initial Extent:
XMin: 356976.301905143
YMin: 7750918.20942116
XMax: 373976.301905143
YMax: 7762918.20942116
Spatial Reference: 31984
(31984)
LatestVCSWkid(0)
Full Extent:
XMin: 356976.301905143
YMin: 7750918.20942116
XMax: 373976.301905143
YMax: 7762918.20942116
Spatial Reference: 31984
(31984)
LatestVCSWkid(0)
Pixel Size X: 1.0
Pixel Size Y: 1.0
Band Count: 1
Pixel Type: F32
RasterFunction Infos: {"rasterFunctionInfos": [{
"name": "None",
"description": "",
"help": ""
}]}
Mensuration Capabilities: Basic
Inspection Capabilities:
Has Histograms: false
Has Colormap: false
Has Multi Dimensions : false
Rendering Rule:
Min Scale: 0
Max Scale: 0
Resampling: false
Copyright Text:
Service Data Type: esriImageServiceDataTypeGeneric
Min Values: -1.8230077028275
Max Values: 307.56021118164
Mean Values: 8.7956869045182
Standard Deviation Values: 28.604165521469
Object ID Field:
Fields:
None
Default Mosaic Method: Center
Allowed Mosaic Methods:
SortField:
SortValue: null
Mosaic Operator: First
Default Compression Quality: 75
Default Resampling Method: Bilinear
Max Record Count: null
Max Image Height: 4100
Max Image Width: 15000
Max Download Image Count: null
Max Mosaic Image Count: null
Allow Raster Function: true
Allow Copy: true
Allow Analysis: true
Allow Compute TiePoints: false
Supports Statistics: false
Supports Advanced Queries: false
Use StandardizedQueries: true
Raster Type Infos:
Name: Raster Dataset
Description: Supports all ArcGIS Raster Datasets
Help:
Has Raster Attribute Table: false
Edit Fields Info: null
Ownership Based AccessControl For Rasters: null
Child Resources:
Info
Statistics
Key Properties
Legend
Raster Function Infos
Supported Operations:
Export Image
Identify
Measure
Compute Histograms
Compute Statistics Histograms
Get Samples
Compute Class Statistics
Query Boundary
Compute Pixel Location
Compute Angles
Validate
Project