<?xml version="1.0" encoding="UTF-8" standalone="no"?>
<metadata xml:lang="en">
  <Esri>
    <MetaID>{D34D506E-16C1-4B2E-9E50-E62A2382BA01}</MetaID>
    <CreaDate>20080903</CreaDate>
    <CreaTime>17210100</CreaTime>
    <SyncOnce>FALSE</SyncOnce>
    <SyncDate>20141201</SyncDate>
    <SyncTime>09481700</SyncTime>
    <ModDate>20141201</ModDate>
    <ModTime>09481700</ModTime>
    <DataProperties>
      <itemProps>
        <itemName Sync="TRUE">Vitoria_Mosaico_Geral_10cm_C_1.img</itemName>
        <itemLocation>
          <protocol Sync="TRUE">Local Area Network</protocol>
          <linkage Sync="TRUE">file://\\10.1.8.2\gisserver$\ortofoto\Vitoria_Mosaico_Geral_10cm_C_1.img</linkage>
        </itemLocation>
        <imsContentType Sync="TRUE">002</imsContentType>
        <nativeExtBox>
          <westBL Sync="TRUE">357480.950000</westBL>
          <eastBL Sync="TRUE">373329.950000</eastBL>
          <southBL Sync="TRUE">7751477.148000</southBL>
          <northBL Sync="TRUE">7761709.448000</northBL>
          <exTypeCode Sync="TRUE">1</exTypeCode>
        </nativeExtBox>
      </itemProps>
      <coordRef>
        <type Sync="TRUE">Projected</type>
        <geogcsn Sync="TRUE">GCS_SIRGAS</geogcsn>
        <csUnits Sync="TRUE">Linear Unit: Meter (1.000000)</csUnits>
        <projcsn Sync="TRUE">SIRGAS_UTM_Zone_24S</projcsn>
        <peXml Sync="TRUE">&lt;ProjectedCoordinateSystem xsi:type='typens:ProjectedCoordinateSystem' xmlns:xsi='http://www.w3.org/2001/XMLSchema-instance' xmlns:xs='http://www.w3.org/2001/XMLSchema' xmlns:typens='http://www.esri.com/schemas/ArcGIS/10.1'&gt;&lt;WKT&gt;PROJCS[&amp;quot;SIRGAS_UTM_Zone_24S&amp;quot;,GEOGCS[&amp;quot;GCS_SIRGAS&amp;quot;,DATUM[&amp;quot;D_SIRGAS&amp;quot;,SPHEROID[&amp;quot;GRS_1980&amp;quot;,6378137.0,298.257222101]],PRIMEM[&amp;quot;Greenwich&amp;quot;,0.0],UNIT[&amp;quot;Degree&amp;quot;,0.0174532925199433]],PROJECTION[&amp;quot;Transverse_Mercator&amp;quot;],PARAMETER[&amp;quot;false_easting&amp;quot;,500000.0],PARAMETER[&amp;quot;false_northing&amp;quot;,10000000.0],PARAMETER[&amp;quot;central_meridian&amp;quot;,-39.0],PARAMETER[&amp;quot;scale_factor&amp;quot;,0.9996],PARAMETER[&amp;quot;latitude_of_origin&amp;quot;,0.0],UNIT[&amp;quot;Meter&amp;quot;,1.0],AUTHORITY[&amp;quot;EPSG&amp;quot;,31999]]&lt;/WKT&gt;&lt;XOrigin&gt;-5120900&lt;/XOrigin&gt;&lt;YOrigin&gt;1900&lt;/YOrigin&gt;&lt;XYScale&gt;450445547.3910538&lt;/XYScale&gt;&lt;ZOrigin&gt;-100000&lt;/ZOrigin&gt;&lt;ZScale&gt;10000&lt;/ZScale&gt;&lt;MOrigin&gt;-100000&lt;/MOrigin&gt;&lt;MScale&gt;10000&lt;/MScale&gt;&lt;XYTolerance&gt;0.001&lt;/XYTolerance&gt;&lt;ZTolerance&gt;0.001&lt;/ZTolerance&gt;&lt;MTolerance&gt;0.001&lt;/MTolerance&gt;&lt;HighPrecision&gt;true&lt;/HighPrecision&gt;&lt;WKID&gt;31999&lt;/WKID&gt;&lt;LatestWKID&gt;31999&lt;/LatestWKID&gt;&lt;/ProjectedCoordinateSystem&gt;</peXml>
      </coordRef>
      <RasterProperties>
        <General>
          <PixelDepth Sync="TRUE">8</PixelDepth>
          <HasColormap Sync="TRUE">FALSE</HasColormap>
          <CompressionType Sync="TRUE">None</CompressionType>
          <NumBands Sync="TRUE">3</NumBands>
          <Format Sync="TRUE">IMAGINE Image</Format>
          <HasPyramids Sync="TRUE">TRUE</HasPyramids>
          <SourceType Sync="TRUE">continuous</SourceType>
          <PixelType Sync="TRUE">unsigned integer</PixelType>
          <NoDataValue Sync="TRUE">256</NoDataValue>
        </General>
      </RasterProperties>
      <lineage/>
    </DataProperties>
    <Service Sync="TRUE">ortofoto</Service>
    <ServiceType Sync="TRUE">image</ServiceType>
  </Esri>
  <idinfo>
    <native Sync="TRUE">Microsoft Windows 2000 Version 5.2 (Build 3790) Service Pack 1; ESRI ArcCatalog 9.2.6.1500</native>
    <descript>
      <langdata Sync="TRUE">en</langdata>
      <abstract>Ortofoto</abstract>
      <purpose>REQUIRED: A summary of the intentions with which the data set was developed.</purpose>
    </descript>
    <citation>
      <citeinfo>
        <origin/>
        <pubdate>REQUIRED: The date when the data set is published or otherwise made available for release.</pubdate>
        <title Sync="TRUE">Vitoria_Mosaico_Geral_10cm_C_1.sid</title>
        <ftname Sync="TRUE">Vitoria_Mosaico_Geral_10cm_C_1.sid</ftname>
        <geoform Sync="TRUE">raster digital data</geoform>
      </citeinfo>
    </citation>
    <timeperd>
      <current>REQUIRED: The basis on which the time period of content information is determined.</current>
      <timeinfo>
        <sngdate>
          <caldate>REQUIRED: The year (and optionally month, or month and day) for which the data set corresponds to the ground.</caldate>
        </sngdate>
      </timeinfo>
    </timeperd>
    <status>
      <progress>REQUIRED: The state of the data set.</progress>
      <update>REQUIRED: The frequency with which changes and additions are made to the data set after the initial data set is completed.</update>
    </status>
    <spdom>
      <bounding>
        <westbc Sync="TRUE">REQUIRED: Western-most coordinate of the limit of coverage expressed in longitude.</westbc>
        <eastbc Sync="TRUE">REQUIRED: Eastern-most coordinate of the limit of coverage expressed in longitude.</eastbc>
        <northbc Sync="TRUE">REQUIRED: Northern-most coordinate of the limit of coverage expressed in latitude.</northbc>
        <southbc Sync="TRUE">REQUIRED: Southern-most coordinate of the limit of coverage expressed in latitude.</southbc>
      </bounding>
      <lboundng>
        <leftbc Sync="TRUE">357480.950000</leftbc>
        <rightbc Sync="TRUE">373329.950000</rightbc>
        <bottombc Sync="TRUE">7751477.148000</bottombc>
        <topbc Sync="TRUE">7761709.448000</topbc>
      </lboundng>
    </spdom>
    <keywords>
      <theme>
        <themekt>REQUIRED: Reference to a formally registered thesaurus or a similar authoritative source of theme keywords.</themekt>
        <themekey>REQUIRED: Common-use word or phrase used to describe the subject of the data set.</themekey>
      </theme>
    </keywords>
    <accconst>REQUIRED: Restrictions and legal prerequisites for accessing the data set.</accconst>
    <useconst>REQUIRED: Restrictions and legal prerequisites for using the data set after access is granted.</useconst>
    <natvform Sync="TRUE">Raster Dataset</natvform>
  </idinfo>
  <dataIdInfo>
    <dataLang>
      <languageCode Sync="TRUE" value="por"/>
      <countryCode Sync="TRUE" value="BRA"/>
    </dataLang>
    <idCitation>
      <resTitle Sync="TRUE">Ortofoto2007</resTitle>
      <presForm>
        <PresFormCd Sync="TRUE" value="005"/>
      </presForm>
    </idCitation>
    <spatRpType>
      <SpatRepTypCd Sync="TRUE" value="002"/>
    </spatRpType>
    <dataExt>
      <geoEle>
        <GeoBndBox esriExtentType="native">
          <westBL Sync="TRUE">357480.95</westBL>
          <eastBL Sync="TRUE">373329.95</eastBL>
          <northBL Sync="TRUE">7761709.448</northBL>
          <southBL Sync="TRUE">7751477.148</southBL>
          <exTypeCode Sync="TRUE">1</exTypeCode>
        </GeoBndBox>
      </geoEle>
    </dataExt>
    <dataExt>
      <geoEle>
        <GeoBndBox esriExtentType="search">
          <exTypeCode Sync="TRUE">1</exTypeCode>
          <westBL Sync="TRUE">-40.365210</westBL>
          <eastBL Sync="TRUE">-40.212699</eastBL>
          <northBL Sync="TRUE">-20.236959</northBL>
          <southBL Sync="TRUE">-20.330515</southBL>
        </GeoBndBox>
      </geoEle>
    </dataExt>
    <envirDesc Sync="TRUE">Microsoft Windows Server 2008 R2 Version 6.1 (Build 7601) Service Pack 1; Esri ArcGIS 10.2.1.3497</envirDesc>
    <idAbs/>
    <idPurp>Ortofotomosaico de 2007 com 10cm de resolução espacial</idPurp>
    <idCredit/>
    <resConst>
      <Consts>
        <useLimit/>
      </Consts>
    </resConst>
  </dataIdInfo>
  <metainfo>
    <langmeta Sync="TRUE">en</langmeta>
    <metstdn Sync="TRUE">FGDC Content Standards for Digital Geospatial Metadata</metstdn>
    <metstdv Sync="TRUE">FGDC-STD-001-1998</metstdv>
    <mettc Sync="TRUE">local time</mettc>
    <metc>
      <cntinfo>
        <cntorgp>
          <cntper>REQUIRED: The person responsible for the metadata information.</cntper>
          <cntorg>REQUIRED: The organization responsible for the metadata information.</cntorg>
        </cntorgp>
        <cntaddr>
          <addrtype>REQUIRED: The mailing and/or physical address for the organization or individual.</addrtype>
          <city>REQUIRED: The city of the address.</city>
          <state>REQUIRED: The state or province of the address.</state>
          <postal>REQUIRED: The ZIP or other postal code of the address.</postal>
        </cntaddr>
        <cntvoice>REQUIRED: The telephone number by which individuals can speak to the organization or individual.</cntvoice>
      </cntinfo>
    </metc>
    <metd Sync="TRUE">20080903</metd>
  </metainfo>
  <mdLang>
    <languageCode Sync="TRUE" value="por"/>
    <countryCode Sync="TRUE" value="BRA"/>
  </mdLang>
  <mdStanName Sync="TRUE">ISO 19115 Geographic Information - Metadata</mdStanName>
  <mdStanVer Sync="TRUE">DIS_ESRI1.0</mdStanVer>
  <mdChar>
    <CharSetCd Sync="TRUE" value="004"/>
  </mdChar>
  <mdHrLv>
    <ScopeCd Sync="TRUE" value="005"/>
  </mdHrLv>
  <mdHrLvName Sync="TRUE">dataset</mdHrLvName>
  <distInfo>
    <distributor>
      <distorTran>
        <onLineSrc>
          <protocol Sync="TRUE">Local Area Network</protocol>
          <orDesc Sync="TRUE">002</orDesc>
        </onLineSrc>
      </distorTran>
      <distorFormat>
        <formatName Sync="TRUE">Raster Dataset</formatName>
      </distorFormat>
    </distributor>
    <distFormat>
      <formatName Sync="TRUE">Raster Dataset</formatName>
    </distFormat>
  </distInfo>
  <distinfo>
    <resdesc Sync="TRUE">Downloadable Data</resdesc>
  </distinfo>
  <spdoinfo>
    <direct Sync="TRUE">Raster</direct>
    <rastinfo>
      <rasttype Sync="TRUE">Pixel</rasttype>
      <rowcount Sync="TRUE">102323</rowcount>
      <colcount Sync="TRUE">158490</colcount>
      <rastxsz Sync="TRUE">0.100000</rastxsz>
      <rastysz Sync="TRUE">0.100000</rastysz>
      <rastbpp Sync="TRUE">8</rastbpp>
      <vrtcount Sync="TRUE">1</vrtcount>
      <rastorig Sync="TRUE">Upper Left</rastorig>
      <rastcmap Sync="TRUE">FALSE</rastcmap>
      <rastcomp Sync="TRUE">Wavelet</rastcomp>
      <rastband Sync="TRUE">3</rastband>
      <rastdtyp Sync="TRUE">pixel codes</rastdtyp>
      <rastifor Sync="TRUE">MrSID</rastifor>
      <rastplyr Sync="TRUE">TRUE</rastplyr>
    </rastinfo>
  </spdoinfo>
  <spref>
    <horizsys>
      <planar>
        <planci>
          <plance Sync="TRUE">row and column</plance>
          <coordrep>
            <absres Sync="TRUE">0.100000</absres>
            <ordres Sync="TRUE">0.100000</ordres>
          </coordrep>
        </planci>
      </planar>
    </horizsys>
  </spref>
  <mdDateSt Sync="TRUE">20141201</mdDateSt>
  <refSysInfo>
    <RefSystem>
      <refSysID>
        <identCode Sync="TRUE" code="31999"/>
        <idCodeSpace Sync="TRUE">EPSG</idCodeSpace>
        <idVersion Sync="TRUE">8.2.6</idVersion>
      </refSysID>
    </RefSystem>
  </refSysInfo>
  <spatRepInfo>
    <Georect>
      <cellGeo>
        <CellGeoCd Sync="TRUE" value="002"/>
      </cellGeo>
      <numDims Sync="TRUE">2</numDims>
      <tranParaAv Sync="TRUE">1</tranParaAv>
      <chkPtAv Sync="TRUE">0</chkPtAv>
      <cornerPts>
        <pos Sync="TRUE">357480.950000 7751477.148000</pos>
      </cornerPts>
      <cornerPts>
        <pos Sync="TRUE">357480.950000 7761709.448000</pos>
      </cornerPts>
      <cornerPts>
        <pos Sync="TRUE">373329.950000 7761709.448000</pos>
      </cornerPts>
      <cornerPts>
        <pos Sync="TRUE">373329.950000 7751477.148000</pos>
      </cornerPts>
      <centerPt>
        <pos Sync="TRUE">365405.450000 7756593.298000</pos>
      </centerPt>
      <axisDimension type="002">
        <dimSize Sync="TRUE">158490</dimSize>
        <dimResol>
          <value Sync="TRUE" uom="Meter">0.100000</value>
        </dimResol>
      </axisDimension>
      <axisDimension type="001">
        <dimSize Sync="TRUE">102323</dimSize>
        <dimResol>
          <value Sync="TRUE" uom="Meter">0.100000</value>
        </dimResol>
      </axisDimension>
      <ptInPixel>
        <PixOrientCd Sync="TRUE" value="001"/>
      </ptInPixel>
    </Georect>
  </spatRepInfo>
  <contInfo>
    <ImgDesc>
      <contentTyp>
        <ContentTypCd Sync="TRUE" value="001"/>
      </contentTyp>
      <covDim>
        <Band>
          <dimDescrp Sync="TRUE">Layer_1</dimDescrp>
          <bitsPerVal Sync="TRUE">8</bitsPerVal>
          <valUnit>
            <UOM type="length"/>
          </valUnit>
          <maxVal Sync="TRUE">255.000000</maxVal>
          <minVal Sync="TRUE">0.000000</minVal>
        </Band>
        <Band>
          <dimDescrp Sync="TRUE">Layer_2</dimDescrp>
          <bitsPerVal Sync="TRUE">8</bitsPerVal>
          <valUnit>
            <UOM type="length"/>
          </valUnit>
          <maxVal Sync="TRUE">255.000000</maxVal>
          <minVal Sync="TRUE">0.000000</minVal>
        </Band>
        <Band>
          <dimDescrp Sync="TRUE">Layer_3</dimDescrp>
          <bitsPerVal Sync="TRUE">8</bitsPerVal>
          <valUnit>
            <UOM type="length"/>
          </valUnit>
          <maxVal Sync="TRUE">255.000000</maxVal>
          <minVal Sync="TRUE">0.000000</minVal>
        </Band>
      </covDim>
    </ImgDesc>
  </contInfo>
</metadata>
