<?xml version="1.0" encoding="UTF-8" standalone="no"?>
<metadata xml:lang="pt">
  <Esri>
    <CreaDate>20140917</CreaDate>
    <CreaTime>15134000</CreaTime>
    <ArcGISFormat>1.0</ArcGISFormat>
    <SyncOnce>FALSE</SyncOnce>
    <DataProperties>
      <itemProps>
        <itemName Sync="TRUE">img_mos_1978_wgs84utm24s_1m_veracidade.img</itemName>
        <itemLocation>
          <protocol Sync="TRUE">Local Area Network</protocol>
          <linkage Sync="TRUE">file://\\10.1.8.2\gisserver$\ortofoto\img_mos_1978_wgs84utm24s_1m_veracidade.img</linkage>
        </itemLocation>
        <imsContentType Sync="TRUE">002</imsContentType>
        <nativeExtBox>
          <westBL Sync="TRUE">350347.438675</westBL>
          <eastBL Sync="TRUE">379900.438675</eastBL>
          <southBL Sync="TRUE">7722224.004038</southBL>
          <northBL Sync="TRUE">7786932.004038</northBL>
          <exTypeCode Sync="TRUE">1</exTypeCode>
        </nativeExtBox>
      </itemProps>
      <coordRef>
        <type Sync="TRUE">Projected</type>
        <geogcsn Sync="TRUE">GCS_WGS_1984</geogcsn>
        <csUnits Sync="TRUE">Linear Unit: Meter (1.000000)</csUnits>
        <projcsn Sync="TRUE">WGS_1984_UTM_Zone_24S</projcsn>
        <peXml Sync="TRUE">&lt;ProjectedCoordinateSystem xsi:type='typens:ProjectedCoordinateSystem' xmlns:xsi='http://www.w3.org/2001/XMLSchema-instance' xmlns:xs='http://www.w3.org/2001/XMLSchema' xmlns:typens='http://www.esri.com/schemas/ArcGIS/10.1'&gt;&lt;WKT&gt;PROJCS[&amp;quot;WGS_1984_UTM_Zone_24S&amp;quot;,GEOGCS[&amp;quot;GCS_WGS_1984&amp;quot;,DATUM[&amp;quot;D_WGS_1984&amp;quot;,SPHEROID[&amp;quot;WGS_1984&amp;quot;,6378137.0,298.257223563]],PRIMEM[&amp;quot;Greenwich&amp;quot;,0.0],UNIT[&amp;quot;Degree&amp;quot;,0.0174532925199433]],PROJECTION[&amp;quot;Transverse_Mercator&amp;quot;],PARAMETER[&amp;quot;false_easting&amp;quot;,500000.0],PARAMETER[&amp;quot;false_northing&amp;quot;,10000000.0],PARAMETER[&amp;quot;central_meridian&amp;quot;,-39.0],PARAMETER[&amp;quot;scale_factor&amp;quot;,0.9996],PARAMETER[&amp;quot;latitude_of_origin&amp;quot;,0.0],UNIT[&amp;quot;Meter&amp;quot;,1.0],AUTHORITY[&amp;quot;EPSG&amp;quot;,32724]]&lt;/WKT&gt;&lt;XOrigin&gt;-5120900&lt;/XOrigin&gt;&lt;YOrigin&gt;1900&lt;/YOrigin&gt;&lt;XYScale&gt;450445547.3910538&lt;/XYScale&gt;&lt;ZOrigin&gt;-100000&lt;/ZOrigin&gt;&lt;ZScale&gt;10000&lt;/ZScale&gt;&lt;MOrigin&gt;-100000&lt;/MOrigin&gt;&lt;MScale&gt;10000&lt;/MScale&gt;&lt;XYTolerance&gt;0.001&lt;/XYTolerance&gt;&lt;ZTolerance&gt;0.001&lt;/ZTolerance&gt;&lt;MTolerance&gt;0.001&lt;/MTolerance&gt;&lt;HighPrecision&gt;true&lt;/HighPrecision&gt;&lt;WKID&gt;32724&lt;/WKID&gt;&lt;LatestWKID&gt;32724&lt;/LatestWKID&gt;&lt;/ProjectedCoordinateSystem&gt;</peXml>
      </coordRef>
      <RasterProperties>
        <General>
          <PixelDepth Sync="TRUE">8</PixelDepth>
          <HasColormap Sync="TRUE">FALSE</HasColormap>
          <CompressionType Sync="TRUE">None</CompressionType>
          <NumBands Sync="TRUE">3</NumBands>
          <Format Sync="TRUE">IMAGINE Image</Format>
          <HasPyramids Sync="TRUE">TRUE</HasPyramids>
          <SourceType Sync="TRUE">continuous</SourceType>
          <PixelType Sync="TRUE">unsigned integer</PixelType>
          <NoDataValue Sync="TRUE"/>
        </General>
      </RasterProperties>
    </DataProperties>
    <SyncDate>20141201</SyncDate>
    <SyncTime>10084200</SyncTime>
    <ModDate>20141201</ModDate>
    <ModTime>10084200</ModTime>
    <Service Sync="TRUE">Mosaico_1978_1m</Service>
    <ServiceType Sync="TRUE">image</ServiceType>
  </Esri>
  <dataIdInfo>
    <dataLang>
      <languageCode Sync="TRUE" value="por"/>
      <countryCode Sync="TRUE" value="BRA"/>
    </dataLang>
    <idCitation>
      <resTitle Sync="TRUE">Mosaico1978</resTitle>
      <presForm>
        <PresFormCd Sync="TRUE" value="005"/>
      </presForm>
    </idCitation>
    <spatRpType>
      <SpatRepTypCd Sync="TRUE" value="002"/>
    </spatRpType>
    <dataExt>
      <geoEle>
        <GeoBndBox esriExtentType="search">
          <exTypeCode Sync="TRUE">1</exTypeCode>
          <westBL Sync="TRUE">-40.435983</westBL>
          <eastBL Sync="TRUE">-40.148140</eastBL>
          <northBL Sync="TRUE">-20.008561</northBL>
          <southBL Sync="TRUE">-20.595224</southBL>
        </GeoBndBox>
      </geoEle>
    </dataExt>
    <envirDesc Sync="TRUE">Microsoft Windows Server 2008 R2 Version 6.1 (Build 7601) Service Pack 1; Esri ArcGIS 10.2.1.3497</envirDesc>
    <idAbs>Mosaico de 1978. Serviço de Imagem com dados provenientes do Veracidade. Possui 1m de resolução espacial.</idAbs>
    <idPurp>Mosaico de 1978. Serviço de Imagem com dados provenientes do Veracidade. Possui 1m de resolução espacial.</idPurp>
    <idCredit>SEMFA/GEO</idCredit>
    <resConst>
      <Consts>
        <useLimit/>
      </Consts>
    </resConst>
    <searchKeys>
      <keyword/>
    </searchKeys>
  </dataIdInfo>
  <mdLang>
    <languageCode Sync="TRUE" value="por"/>
    <countryCode Sync="TRUE" value="BRA"/>
  </mdLang>
  <mdChar>
    <CharSetCd Sync="TRUE" value="004"/>
  </mdChar>
  <distInfo>
    <distFormat>
      <formatName Sync="TRUE">Raster Dataset</formatName>
    </distFormat>
  </distInfo>
  <mdHrLv>
    <ScopeCd Sync="TRUE" value="005"/>
  </mdHrLv>
  <mdHrLvName Sync="TRUE">dataset</mdHrLvName>
  <refSysInfo>
    <RefSystem>
      <refSysID>
        <identCode Sync="TRUE" code="32724"/>
        <idCodeSpace Sync="TRUE">EPSG</idCodeSpace>
        <idVersion Sync="TRUE">8.2.6</idVersion>
      </refSysID>
    </RefSystem>
  </refSysInfo>
  <spatRepInfo>
    <Georect>
      <cellGeo>
        <CellGeoCd Sync="TRUE" value="002"/>
      </cellGeo>
      <numDims Sync="TRUE">2</numDims>
      <tranParaAv Sync="TRUE">1</tranParaAv>
      <chkPtAv Sync="TRUE">0</chkPtAv>
      <cornerPts>
        <pos Sync="TRUE">350347.438675 7722224.004038</pos>
      </cornerPts>
      <cornerPts>
        <pos Sync="TRUE">350347.438675 7786932.004038</pos>
      </cornerPts>
      <cornerPts>
        <pos Sync="TRUE">379900.438675 7786932.004038</pos>
      </cornerPts>
      <cornerPts>
        <pos Sync="TRUE">379900.438675 7722224.004038</pos>
      </cornerPts>
      <centerPt>
        <pos Sync="TRUE">365123.938675 7754578.004038</pos>
      </centerPt>
      <axisDimension type="002">
        <dimSize Sync="TRUE">29553</dimSize>
        <dimResol>
          <value Sync="TRUE" uom="Meter">1.000000</value>
        </dimResol>
      </axisDimension>
      <axisDimension type="001">
        <dimSize Sync="TRUE">64708</dimSize>
        <dimResol>
          <value Sync="TRUE" uom="Meter">1.000000</value>
        </dimResol>
      </axisDimension>
      <ptInPixel>
        <PixOrientCd Sync="TRUE" value="001"/>
      </ptInPixel>
    </Georect>
  </spatRepInfo>
  <eainfo>
    <detailed Name="img_mos_1978_wgs84utm24s_1m_veracidade.img.vat">
      <enttyp>
        <enttypl Sync="TRUE">img_mos_1978_wgs84utm24s_1m_veracidade.img.vat</enttypl>
        <enttypt Sync="TRUE">Table</enttypt>
        <enttypc Sync="TRUE">256</enttypc>
      </enttyp>
      <attr>
        <attrlabl Sync="TRUE">OID</attrlabl>
        <attalias Sync="TRUE">OID</attalias>
        <attrtype Sync="TRUE">OID</attrtype>
        <attwidth Sync="TRUE">4</attwidth>
        <atprecis Sync="TRUE">0</atprecis>
        <attscale Sync="TRUE">0</attscale>
        <attrdef Sync="TRUE">Internal feature number.</attrdef>
        <attrdefs Sync="TRUE">Esri</attrdefs>
        <attrdomv>
          <udom Sync="TRUE">Sequential unique whole numbers that are automatically generated.</udom>
        </attrdomv>
      </attr>
      <attr>
        <attrlabl Sync="TRUE">Value</attrlabl>
        <attalias Sync="TRUE">Value</attalias>
        <attrtype Sync="TRUE">Integer</attrtype>
        <attwidth Sync="TRUE">0</attwidth>
        <atprecis Sync="TRUE">0</atprecis>
        <attscale Sync="TRUE">0</attscale>
      </attr>
      <attr>
        <attrlabl Sync="TRUE">Count</attrlabl>
        <attalias Sync="TRUE">Count</attalias>
        <attrtype Sync="TRUE">Double</attrtype>
        <attwidth Sync="TRUE">0</attwidth>
        <atprecis Sync="TRUE">0</atprecis>
        <attscale Sync="TRUE">0</attscale>
      </attr>
    </detailed>
    <detailed Name="img_mos_1978_wgs84utm24s_1m_veracidade.img(Layer_2).vat">
      <enttyp>
        <enttypl Sync="TRUE">img_mos_1978_wgs84utm24s_1m_veracidade.img(Layer_2).vat</enttypl>
        <enttypt Sync="TRUE">Table</enttypt>
        <enttypc Sync="TRUE">256</enttypc>
      </enttyp>
      <attr>
        <attrlabl Sync="TRUE">OID</attrlabl>
        <attalias Sync="TRUE">OID</attalias>
        <attrtype Sync="TRUE">OID</attrtype>
        <attwidth Sync="TRUE">4</attwidth>
        <atprecis Sync="TRUE">0</atprecis>
        <attscale Sync="TRUE">0</attscale>
        <attrdef Sync="TRUE">Internal feature number.</attrdef>
        <attrdefs Sync="TRUE">Esri</attrdefs>
        <attrdomv>
          <udom Sync="TRUE">Sequential unique whole numbers that are automatically generated.</udom>
        </attrdomv>
      </attr>
      <attr>
        <attrlabl Sync="TRUE">Value</attrlabl>
        <attalias Sync="TRUE">Value</attalias>
        <attrtype Sync="TRUE">Integer</attrtype>
        <attwidth Sync="TRUE">0</attwidth>
        <atprecis Sync="TRUE">0</atprecis>
        <attscale Sync="TRUE">0</attscale>
      </attr>
      <attr>
        <attrlabl Sync="TRUE">Count</attrlabl>
        <attalias Sync="TRUE">Count</attalias>
        <attrtype Sync="TRUE">Double</attrtype>
        <attwidth Sync="TRUE">0</attwidth>
        <atprecis Sync="TRUE">0</atprecis>
        <attscale Sync="TRUE">0</attscale>
      </attr>
    </detailed>
    <detailed Name="img_mos_1978_wgs84utm24s_1m_veracidade.img(Layer_3).vat">
      <enttyp>
        <enttypl Sync="TRUE">img_mos_1978_wgs84utm24s_1m_veracidade.img(Layer_3).vat</enttypl>
        <enttypt Sync="TRUE">Table</enttypt>
        <enttypc Sync="TRUE">256</enttypc>
      </enttyp>
      <attr>
        <attrlabl Sync="TRUE">OID</attrlabl>
        <attalias Sync="TRUE">OID</attalias>
        <attrtype Sync="TRUE">OID</attrtype>
        <attwidth Sync="TRUE">4</attwidth>
        <atprecis Sync="TRUE">0</atprecis>
        <attscale Sync="TRUE">0</attscale>
        <attrdef Sync="TRUE">Internal feature number.</attrdef>
        <attrdefs Sync="TRUE">Esri</attrdefs>
        <attrdomv>
          <udom Sync="TRUE">Sequential unique whole numbers that are automatically generated.</udom>
        </attrdomv>
      </attr>
      <attr>
        <attrlabl Sync="TRUE">Value</attrlabl>
        <attalias Sync="TRUE">Value</attalias>
        <attrtype Sync="TRUE">Integer</attrtype>
        <attwidth Sync="TRUE">0</attwidth>
        <atprecis Sync="TRUE">0</atprecis>
        <attscale Sync="TRUE">0</attscale>
      </attr>
      <attr>
        <attrlabl Sync="TRUE">Count</attrlabl>
        <attalias Sync="TRUE">Count</attalias>
        <attrtype Sync="TRUE">Double</attrtype>
        <attwidth Sync="TRUE">0</attwidth>
        <atprecis Sync="TRUE">0</atprecis>
        <attscale Sync="TRUE">0</attscale>
      </attr>
    </detailed>
  </eainfo>
  <contInfo>
    <ImgDesc>
      <contentTyp>
        <ContentTypCd Sync="TRUE" value="001"/>
      </contentTyp>
      <covDim>
        <Band>
          <dimDescrp Sync="TRUE">Layer_1</dimDescrp>
          <maxVal Sync="TRUE">255.000000</maxVal>
          <minVal Sync="TRUE">0.000000</minVal>
          <bitsPerVal Sync="TRUE">8</bitsPerVal>
          <valUnit>
            <UOM type="length"/>
          </valUnit>
        </Band>
        <Band>
          <dimDescrp Sync="TRUE">Layer_2</dimDescrp>
          <maxVal Sync="TRUE">255.000000</maxVal>
          <minVal Sync="TRUE">0.000000</minVal>
          <bitsPerVal Sync="TRUE">8</bitsPerVal>
          <valUnit>
            <UOM type="length"/>
          </valUnit>
        </Band>
        <Band>
          <dimDescrp Sync="TRUE">Layer_3</dimDescrp>
          <maxVal Sync="TRUE">255.000000</maxVal>
          <minVal Sync="TRUE">0.000000</minVal>
          <bitsPerVal Sync="TRUE">8</bitsPerVal>
          <valUnit>
            <UOM type="length"/>
          </valUnit>
        </Band>
      </covDim>
    </ImgDesc>
  </contInfo>
  <mdDateSt Sync="TRUE">20141201</mdDateSt>
  <idinfo>
    <citation>
      <citeinfo>
        <origin/>
      </citeinfo>
    </citation>
    <descript>
      <abstract>Serviço de Imagem com dados provenientes do Veracidade.</abstract>
    </descript>
  </idinfo>
</metadata>
